BEGIN:VCALENDAR
VERSION:2.0
PRODID:-//Rüwi - ECPv6.15.18//NONSGML v1.0//EN
CALSCALE:GREGORIAN
METHOD:PUBLISH
X-ORIGINAL-URL:https://www.fahrradgruppe-rueckenwind.de
X-WR-CALDESC:Veranstaltungen für Rüwi
REFRESH-INTERVAL;VALUE=DURATION:PT1H
X-Robots-Tag:noindex
X-PUBLISHED-TTL:PT1H
BEGIN:VTIMEZONE
TZID:Europe/Berlin
BEGIN:DAYLIGHT
TZOFFSETFROM:+0100
TZOFFSETTO:+0200
TZNAME:CEST
DTSTART:20250330T010000
END:DAYLIGHT
BEGIN:STANDARD
TZOFFSETFROM:+0200
TZOFFSETTO:+0100
TZNAME:CET
DTSTART:20251026T010000
END:STANDARD
BEGIN:DAYLIGHT
TZOFFSETFROM:+0100
TZOFFSETTO:+0200
TZNAME:CEST
DTSTART:20260329T010000
END:DAYLIGHT
BEGIN:STANDARD
TZOFFSETFROM:+0200
TZOFFSETTO:+0100
TZNAME:CET
DTSTART:20261025T010000
END:STANDARD
BEGIN:DAYLIGHT
TZOFFSETFROM:+0100
TZOFFSETTO:+0200
TZNAME:CEST
DTSTART:20270328T010000
END:DAYLIGHT
BEGIN:STANDARD
TZOFFSETFROM:+0200
TZOFFSETTO:+0100
TZNAME:CET
DTSTART:20271031T010000
END:STANDARD
END:VTIMEZONE
BEGIN:VEVENT
DTSTART;TZID=Europe/Berlin:20260618T180000
DTEND;TZID=Europe/Berlin:20260618T180000
DTSTAMP:20260420T010810
CREATED:20260225T121959Z
LAST-MODIFIED:20260225T121959Z
UID:9708-1781805600-1781805600@www.fahrradgruppe-rueckenwind.de
SUMMARY:Gemütliche Feierabend-Tour
DESCRIPTION:Gemütliche Feierabend-Tour mit der FahrradgruppeRückenwind durch Marsch und Geest. Strecke: 25 – 30 km
URL:https://www.fahrradgruppe-rueckenwind.de/event/gemuetliche-feierabend-tour-127/
LOCATION:Rathaus – bei den Grünanlagen\, Schulstrasse 15\, Elmshorn\, Schleswig-Holstein\, 25335\, Deutschland
CATEGORIES:Termine Touren-Rüwis
END:VEVENT
BEGIN:VEVENT
DTSTART;TZID=Europe/Berlin:20260623T183000
DTEND;TZID=Europe/Berlin:20260623T183000
DTSTAMP:20260420T010810
CREATED:20260225T122915Z
LAST-MODIFIED:20260225T122915Z
UID:9788-1782239400-1782239400@www.fahrradgruppe-rueckenwind.de
SUMMARY:Trainingsabend der Renn-Rüwis
DESCRIPTION:Rennrad Touren für Anfänger u. Wiedereinsteiger
URL:https://www.fahrradgruppe-rueckenwind.de/event/trainingsabend-der-renn-ruewis-218/
LOCATION:Rathaus – bei den Grünanlagen\, Schulstrasse 15\, Elmshorn\, Schleswig-Holstein\, 25335\, Deutschland
CATEGORIES:Termine Renn-Rüwis
END:VEVENT
BEGIN:VEVENT
DTSTART;TZID=Europe/Berlin:20260624T180000
DTEND;TZID=Europe/Berlin:20260624T180000
DTSTAMP:20260420T010810
CREATED:20260327T222816Z
LAST-MODIFIED:20260327T222816Z
UID:9941-1782324000-1782324000@www.fahrradgruppe-rueckenwind.de
SUMMARY:Flottere Feierabend-Tour
DESCRIPTION:Flottere Feierabend-Tour mit der Fahrradgruppe Rückenwind durch Wald  Feld und Moor. Strecke: 30-40 km
URL:https://www.fahrradgruppe-rueckenwind.de/event/flottere-feierabend-tour-154/
LOCATION:Buttermarkt\, Probstendamm\, Elmshorn\, 25336\, Deutschland
CATEGORIES:Termine Touren-Rüwis
END:VEVENT
BEGIN:VEVENT
DTSTART;TZID=Europe/Berlin:20260624T190000
DTEND;TZID=Europe/Berlin:20260624T190000
DTSTAMP:20260420T010810
CREATED:20260225T122653Z
LAST-MODIFIED:20260225T122653Z
UID:9763-1782327600-1782327600@www.fahrradgruppe-rueckenwind.de
SUMMARY:Trainingsabend der Renn-Rüwis
DESCRIPTION:Trainingsabend der Renn-Rüwis
URL:https://www.fahrradgruppe-rueckenwind.de/event/trainingsabend-der-renn-ruewis-194/
LOCATION:Rathaus – bei den Grünanlagen\, Schulstrasse 15\, Elmshorn\, Schleswig-Holstein\, 25335\, Deutschland
CATEGORIES:Termine Renn-Rüwis
END:VEVENT
BEGIN:VEVENT
DTSTART;TZID=Europe/Berlin:20260625T180000
DTEND;TZID=Europe/Berlin:20260625T180000
DTSTAMP:20260420T010810
CREATED:20260225T122000Z
LAST-MODIFIED:20260225T122000Z
UID:9709-1782410400-1782410400@www.fahrradgruppe-rueckenwind.de
SUMMARY:Gemütliche Feierabend-Tour
DESCRIPTION:Gemütliche Feierabend-Tour mit der FahrradgruppeRückenwind durch Marsch und Geest. Strecke: 25 – 30 km
URL:https://www.fahrradgruppe-rueckenwind.de/event/gemuetliche-feierabend-tour-128/
LOCATION:Rathaus – bei den Grünanlagen\, Schulstrasse 15\, Elmshorn\, Schleswig-Holstein\, 25335\, Deutschland
CATEGORIES:Termine Touren-Rüwis
END:VEVENT
BEGIN:VEVENT
DTSTART;TZID=Europe/Berlin:20260630T183000
DTEND;TZID=Europe/Berlin:20260630T183000
DTSTAMP:20260420T010810
CREATED:20260225T122916Z
LAST-MODIFIED:20260225T122916Z
UID:9789-1782844200-1782844200@www.fahrradgruppe-rueckenwind.de
SUMMARY:Trainingsabend der Renn-Rüwis
DESCRIPTION:Rennrad Touren für Anfänger u. Wiedereinsteiger
URL:https://www.fahrradgruppe-rueckenwind.de/event/trainingsabend-der-renn-ruewis-219/
LOCATION:Rathaus – bei den Grünanlagen\, Schulstrasse 15\, Elmshorn\, Schleswig-Holstein\, 25335\, Deutschland
CATEGORIES:Termine Renn-Rüwis
END:VEVENT
BEGIN:VEVENT
DTSTART;TZID=Europe/Berlin:20260701T180000
DTEND;TZID=Europe/Berlin:20260701T180000
DTSTAMP:20260420T010810
CREATED:20260327T222817Z
LAST-MODIFIED:20260327T222817Z
UID:9942-1782928800-1782928800@www.fahrradgruppe-rueckenwind.de
SUMMARY:Flottere Feierabend-Tour
DESCRIPTION:Flottere Feierabend-Tour mit der Fahrradgruppe Rückenwind durch Wald  Feld und Moor. Strecke: 30-40 km
URL:https://www.fahrradgruppe-rueckenwind.de/event/flottere-feierabend-tour-155/
LOCATION:Buttermarkt\, Probstendamm\, Elmshorn\, 25336\, Deutschland
CATEGORIES:Termine Touren-Rüwis
END:VEVENT
BEGIN:VEVENT
DTSTART;TZID=Europe/Berlin:20260701T190000
DTEND;TZID=Europe/Berlin:20260701T190000
DTSTAMP:20260420T010810
CREATED:20260225T122657Z
LAST-MODIFIED:20260225T122657Z
UID:9764-1782932400-1782932400@www.fahrradgruppe-rueckenwind.de
SUMMARY:Trainingsabend der Renn-Rüwis
DESCRIPTION:Trainingsabend der Renn-Rüwis
URL:https://www.fahrradgruppe-rueckenwind.de/event/trainingsabend-der-renn-ruewis-195/
LOCATION:Rathaus – bei den Grünanlagen\, Schulstrasse 15\, Elmshorn\, Schleswig-Holstein\, 25335\, Deutschland
CATEGORIES:Termine Renn-Rüwis
END:VEVENT
BEGIN:VEVENT
DTSTART;TZID=Europe/Berlin:20260702T180000
DTEND;TZID=Europe/Berlin:20260702T180000
DTSTAMP:20260420T010810
CREATED:20260225T122001Z
LAST-MODIFIED:20260225T122001Z
UID:9710-1783015200-1783015200@www.fahrradgruppe-rueckenwind.de
SUMMARY:Gemütliche Feierabend-Tour
DESCRIPTION:Gemütliche Feierabend-Tour mit der FahrradgruppeRückenwind durch Marsch und Geest. Strecke: 25 – 30 km
URL:https://www.fahrradgruppe-rueckenwind.de/event/gemuetliche-feierabend-tour-129/
LOCATION:Rathaus – bei den Grünanlagen\, Schulstrasse 15\, Elmshorn\, Schleswig-Holstein\, 25335\, Deutschland
CATEGORIES:Termine Touren-Rüwis
END:VEVENT
BEGIN:VEVENT
DTSTART;TZID=Europe/Berlin:20260707T183000
DTEND;TZID=Europe/Berlin:20260707T183000
DTSTAMP:20260420T010810
CREATED:20260225T122918Z
LAST-MODIFIED:20260225T122918Z
UID:9790-1783449000-1783449000@www.fahrradgruppe-rueckenwind.de
SUMMARY:Trainingsabend der Renn-Rüwis
DESCRIPTION:Rennrad Touren für Anfänger u. Wiedereinsteiger
URL:https://www.fahrradgruppe-rueckenwind.de/event/trainingsabend-der-renn-ruewis-220/
LOCATION:Rathaus – bei den Grünanlagen\, Schulstrasse 15\, Elmshorn\, Schleswig-Holstein\, 25335\, Deutschland
CATEGORIES:Termine Renn-Rüwis
END:VEVENT
BEGIN:VEVENT
DTSTART;TZID=Europe/Berlin:20260708T180000
DTEND;TZID=Europe/Berlin:20260708T180000
DTSTAMP:20260420T010810
CREATED:20260327T222817Z
LAST-MODIFIED:20260327T222817Z
UID:9943-1783533600-1783533600@www.fahrradgruppe-rueckenwind.de
SUMMARY:Flottere Feierabend-Tour
DESCRIPTION:Flottere Feierabend-Tour mit der Fahrradgruppe Rückenwind durch Wald  Feld und Moor. Strecke: 30-40 km
URL:https://www.fahrradgruppe-rueckenwind.de/event/flottere-feierabend-tour-156/
LOCATION:Buttermarkt\, Probstendamm\, Elmshorn\, 25336\, Deutschland
CATEGORIES:Termine Touren-Rüwis
END:VEVENT
BEGIN:VEVENT
DTSTART;TZID=Europe/Berlin:20260708T190000
DTEND;TZID=Europe/Berlin:20260708T190000
DTSTAMP:20260420T010810
CREATED:20260225T122700Z
LAST-MODIFIED:20260225T122700Z
UID:9765-1783537200-1783537200@www.fahrradgruppe-rueckenwind.de
SUMMARY:Trainingsabend der Renn-Rüwis
DESCRIPTION:Trainingsabend der Renn-Rüwis
URL:https://www.fahrradgruppe-rueckenwind.de/event/trainingsabend-der-renn-ruewis-196/
LOCATION:Rathaus – bei den Grünanlagen\, Schulstrasse 15\, Elmshorn\, Schleswig-Holstein\, 25335\, Deutschland
CATEGORIES:Termine Renn-Rüwis
END:VEVENT
BEGIN:VEVENT
DTSTART;TZID=Europe/Berlin:20260709T180000
DTEND;TZID=Europe/Berlin:20260709T180000
DTSTAMP:20260420T010810
CREATED:20260225T122004Z
LAST-MODIFIED:20260225T122004Z
UID:9711-1783620000-1783620000@www.fahrradgruppe-rueckenwind.de
SUMMARY:Gemütliche Feierabend-Tour
DESCRIPTION:Gemütliche Feierabend-Tour mit der FahrradgruppeRückenwind durch Marsch und Geest. Strecke: 25 – 30 km
URL:https://www.fahrradgruppe-rueckenwind.de/event/gemuetliche-feierabend-tour-130/
LOCATION:Rathaus – bei den Grünanlagen\, Schulstrasse 15\, Elmshorn\, Schleswig-Holstein\, 25335\, Deutschland
CATEGORIES:Termine Touren-Rüwis
END:VEVENT
BEGIN:VEVENT
DTSTART;TZID=Europe/Berlin:20260714T183000
DTEND;TZID=Europe/Berlin:20260714T183000
DTSTAMP:20260420T010810
CREATED:20260225T122919Z
LAST-MODIFIED:20260225T122919Z
UID:9791-1784053800-1784053800@www.fahrradgruppe-rueckenwind.de
SUMMARY:Trainingsabend der Renn-Rüwis
DESCRIPTION:Rennrad Touren für Anfänger u. Wiedereinsteiger
URL:https://www.fahrradgruppe-rueckenwind.de/event/trainingsabend-der-renn-ruewis-221/
LOCATION:Rathaus – bei den Grünanlagen\, Schulstrasse 15\, Elmshorn\, Schleswig-Holstein\, 25335\, Deutschland
CATEGORIES:Termine Renn-Rüwis
END:VEVENT
BEGIN:VEVENT
DTSTART;TZID=Europe/Berlin:20260715T180000
DTEND;TZID=Europe/Berlin:20260715T180000
DTSTAMP:20260420T010810
CREATED:20260327T222817Z
LAST-MODIFIED:20260327T222817Z
UID:9944-1784138400-1784138400@www.fahrradgruppe-rueckenwind.de
SUMMARY:Flottere Feierabend-Tour
DESCRIPTION:Flottere Feierabend-Tour mit der Fahrradgruppe Rückenwind durch Wald  Feld und Moor. Strecke: 30-40 km
URL:https://www.fahrradgruppe-rueckenwind.de/event/flottere-feierabend-tour-157/
LOCATION:Buttermarkt\, Probstendamm\, Elmshorn\, 25336\, Deutschland
CATEGORIES:Termine Touren-Rüwis
END:VEVENT
BEGIN:VEVENT
DTSTART;TZID=Europe/Berlin:20260715T190000
DTEND;TZID=Europe/Berlin:20260715T190000
DTSTAMP:20260420T010810
CREATED:20260225T122704Z
LAST-MODIFIED:20260225T122704Z
UID:9766-1784142000-1784142000@www.fahrradgruppe-rueckenwind.de
SUMMARY:Trainingsabend der Renn-Rüwis
DESCRIPTION:Trainingsabend der Renn-Rüwis
URL:https://www.fahrradgruppe-rueckenwind.de/event/trainingsabend-der-renn-ruewis-197/
LOCATION:Rathaus – bei den Grünanlagen\, Schulstrasse 15\, Elmshorn\, Schleswig-Holstein\, 25335\, Deutschland
CATEGORIES:Termine Renn-Rüwis
END:VEVENT
BEGIN:VEVENT
DTSTART;TZID=Europe/Berlin:20260716T180000
DTEND;TZID=Europe/Berlin:20260716T180000
DTSTAMP:20260420T010810
CREATED:20260225T122006Z
LAST-MODIFIED:20260225T122006Z
UID:9712-1784224800-1784224800@www.fahrradgruppe-rueckenwind.de
SUMMARY:Gemütliche Feierabend-Tour
DESCRIPTION:Gemütliche Feierabend-Tour mit der FahrradgruppeRückenwind durch Marsch und Geest. Strecke: 25 – 30 km
URL:https://www.fahrradgruppe-rueckenwind.de/event/gemuetliche-feierabend-tour-131/
LOCATION:Rathaus – bei den Grünanlagen\, Schulstrasse 15\, Elmshorn\, Schleswig-Holstein\, 25335\, Deutschland
CATEGORIES:Termine Touren-Rüwis
END:VEVENT
BEGIN:VEVENT
DTSTART;TZID=Europe/Berlin:20260721T183000
DTEND;TZID=Europe/Berlin:20260721T183000
DTSTAMP:20260420T010810
CREATED:20260225T122920Z
LAST-MODIFIED:20260225T122920Z
UID:9792-1784658600-1784658600@www.fahrradgruppe-rueckenwind.de
SUMMARY:Trainingsabend der Renn-Rüwis
DESCRIPTION:Rennrad Touren für Anfänger u. Wiedereinsteiger
URL:https://www.fahrradgruppe-rueckenwind.de/event/trainingsabend-der-renn-ruewis-222/
LOCATION:Rathaus – bei den Grünanlagen\, Schulstrasse 15\, Elmshorn\, Schleswig-Holstein\, 25335\, Deutschland
CATEGORIES:Termine Renn-Rüwis
END:VEVENT
BEGIN:VEVENT
DTSTART;TZID=Europe/Berlin:20260722T180000
DTEND;TZID=Europe/Berlin:20260722T180000
DTSTAMP:20260420T010810
CREATED:20260327T222831Z
LAST-MODIFIED:20260327T222831Z
UID:9945-1784743200-1784743200@www.fahrradgruppe-rueckenwind.de
SUMMARY:Flottere Feierabend-Tour
DESCRIPTION:Flottere Feierabend-Tour mit der Fahrradgruppe Rückenwind durch Wald  Feld und Moor. Strecke: 30-40 km
URL:https://www.fahrradgruppe-rueckenwind.de/event/flottere-feierabend-tour-158/
LOCATION:Buttermarkt\, Probstendamm\, Elmshorn\, 25336\, Deutschland
CATEGORIES:Termine Touren-Rüwis
END:VEVENT
BEGIN:VEVENT
DTSTART;TZID=Europe/Berlin:20260722T190000
DTEND;TZID=Europe/Berlin:20260722T190000
DTSTAMP:20260420T010810
CREATED:20260225T122706Z
LAST-MODIFIED:20260225T122706Z
UID:9767-1784746800-1784746800@www.fahrradgruppe-rueckenwind.de
SUMMARY:Trainingsabend der Renn-Rüwis
DESCRIPTION:Trainingsabend der Renn-Rüwis
URL:https://www.fahrradgruppe-rueckenwind.de/event/trainingsabend-der-renn-ruewis-198/
LOCATION:Rathaus – bei den Grünanlagen\, Schulstrasse 15\, Elmshorn\, Schleswig-Holstein\, 25335\, Deutschland
CATEGORIES:Termine Renn-Rüwis
END:VEVENT
BEGIN:VEVENT
DTSTART;TZID=Europe/Berlin:20260723T180000
DTEND;TZID=Europe/Berlin:20260723T180000
DTSTAMP:20260420T010810
CREATED:20260225T122014Z
LAST-MODIFIED:20260225T122014Z
UID:9713-1784829600-1784829600@www.fahrradgruppe-rueckenwind.de
SUMMARY:Gemütliche Feierabend-Tour
DESCRIPTION:Gemütliche Feierabend-Tour mit der FahrradgruppeRückenwind durch Marsch und Geest. Strecke: 25 – 30 km
URL:https://www.fahrradgruppe-rueckenwind.de/event/gemuetliche-feierabend-tour-132/
LOCATION:Rathaus – bei den Grünanlagen\, Schulstrasse 15\, Elmshorn\, Schleswig-Holstein\, 25335\, Deutschland
CATEGORIES:Termine Touren-Rüwis
END:VEVENT
BEGIN:VEVENT
DTSTART;TZID=Europe/Berlin:20260728T183000
DTEND;TZID=Europe/Berlin:20260728T183000
DTSTAMP:20260420T010810
CREATED:20260225T122930Z
LAST-MODIFIED:20260225T122930Z
UID:9793-1785263400-1785263400@www.fahrradgruppe-rueckenwind.de
SUMMARY:Trainingsabend der Renn-Rüwis
DESCRIPTION:Rennrad Touren für Anfänger u. Wiedereinsteiger
URL:https://www.fahrradgruppe-rueckenwind.de/event/trainingsabend-der-renn-ruewis-223/
LOCATION:Rathaus – bei den Grünanlagen\, Schulstrasse 15\, Elmshorn\, Schleswig-Holstein\, 25335\, Deutschland
CATEGORIES:Termine Renn-Rüwis
END:VEVENT
BEGIN:VEVENT
DTSTART;TZID=Europe/Berlin:20260729T180000
DTEND;TZID=Europe/Berlin:20260729T180000
DTSTAMP:20260420T010810
CREATED:20260327T222831Z
LAST-MODIFIED:20260327T222831Z
UID:9946-1785348000-1785348000@www.fahrradgruppe-rueckenwind.de
SUMMARY:Flottere Feierabend-Tour
DESCRIPTION:Flottere Feierabend-Tour mit der Fahrradgruppe Rückenwind durch Wald  Feld und Moor. Strecke: 30-40 km
URL:https://www.fahrradgruppe-rueckenwind.de/event/flottere-feierabend-tour-159/
LOCATION:Buttermarkt\, Probstendamm\, Elmshorn\, 25336\, Deutschland
CATEGORIES:Termine Touren-Rüwis
END:VEVENT
BEGIN:VEVENT
DTSTART;TZID=Europe/Berlin:20260729T190000
DTEND;TZID=Europe/Berlin:20260729T190000
DTSTAMP:20260420T010810
CREATED:20260225T122711Z
LAST-MODIFIED:20260225T122711Z
UID:9768-1785351600-1785351600@www.fahrradgruppe-rueckenwind.de
SUMMARY:Trainingsabend der Renn-Rüwis
DESCRIPTION:Trainingsabend der Renn-Rüwis
URL:https://www.fahrradgruppe-rueckenwind.de/event/trainingsabend-der-renn-ruewis-199/
LOCATION:Rathaus – bei den Grünanlagen\, Schulstrasse 15\, Elmshorn\, Schleswig-Holstein\, 25335\, Deutschland
CATEGORIES:Termine Renn-Rüwis
END:VEVENT
BEGIN:VEVENT
DTSTART;TZID=Europe/Berlin:20260730T180000
DTEND;TZID=Europe/Berlin:20260730T180000
DTSTAMP:20260420T010810
CREATED:20260225T122016Z
LAST-MODIFIED:20260225T122016Z
UID:9714-1785434400-1785434400@www.fahrradgruppe-rueckenwind.de
SUMMARY:Gemütliche Feierabend-Tour
DESCRIPTION:Gemütliche Feierabend-Tour mit der FahrradgruppeRückenwind durch Marsch und Geest. Strecke: 25 – 30 km
URL:https://www.fahrradgruppe-rueckenwind.de/event/gemuetliche-feierabend-tour-133/
LOCATION:Rathaus – bei den Grünanlagen\, Schulstrasse 15\, Elmshorn\, Schleswig-Holstein\, 25335\, Deutschland
CATEGORIES:Termine Touren-Rüwis
END:VEVENT
BEGIN:VEVENT
DTSTART;TZID=Europe/Berlin:20260804T183000
DTEND;TZID=Europe/Berlin:20260804T183000
DTSTAMP:20260420T010810
CREATED:20260225T122931Z
LAST-MODIFIED:20260225T122931Z
UID:9794-1785868200-1785868200@www.fahrradgruppe-rueckenwind.de
SUMMARY:Trainingsabend der Renn-Rüwis
DESCRIPTION:Rennrad Touren für Anfänger u. Wiedereinsteiger
URL:https://www.fahrradgruppe-rueckenwind.de/event/trainingsabend-der-renn-ruewis-224/
LOCATION:Rathaus – bei den Grünanlagen\, Schulstrasse 15\, Elmshorn\, Schleswig-Holstein\, 25335\, Deutschland
CATEGORIES:Termine Renn-Rüwis
END:VEVENT
BEGIN:VEVENT
DTSTART;TZID=Europe/Berlin:20260805T180000
DTEND;TZID=Europe/Berlin:20260805T180000
DTSTAMP:20260420T010810
CREATED:20260327T222832Z
LAST-MODIFIED:20260327T222832Z
UID:9947-1785952800-1785952800@www.fahrradgruppe-rueckenwind.de
SUMMARY:Flottere Feierabend-Tour
DESCRIPTION:Flottere Feierabend-Tour mit der Fahrradgruppe Rückenwind durch Wald  Feld und Moor. Strecke: 30-40 km
URL:https://www.fahrradgruppe-rueckenwind.de/event/flottere-feierabend-tour-160/
LOCATION:Buttermarkt\, Probstendamm\, Elmshorn\, 25336\, Deutschland
CATEGORIES:Termine Touren-Rüwis
END:VEVENT
BEGIN:VEVENT
DTSTART;TZID=Europe/Berlin:20260805T190000
DTEND;TZID=Europe/Berlin:20260805T190000
DTSTAMP:20260420T010810
CREATED:20260225T122714Z
LAST-MODIFIED:20260225T122714Z
UID:9769-1785956400-1785956400@www.fahrradgruppe-rueckenwind.de
SUMMARY:Trainingsabend der Renn-Rüwis
DESCRIPTION:Trainingsabend der Renn-Rüwis
URL:https://www.fahrradgruppe-rueckenwind.de/event/trainingsabend-der-renn-ruewis-200/
LOCATION:Rathaus – bei den Grünanlagen\, Schulstrasse 15\, Elmshorn\, Schleswig-Holstein\, 25335\, Deutschland
CATEGORIES:Termine Renn-Rüwis
END:VEVENT
BEGIN:VEVENT
DTSTART;TZID=Europe/Berlin:20260806T180000
DTEND;TZID=Europe/Berlin:20260806T180000
DTSTAMP:20260420T010810
CREATED:20260225T122017Z
LAST-MODIFIED:20260225T122017Z
UID:9715-1786039200-1786039200@www.fahrradgruppe-rueckenwind.de
SUMMARY:Gemütliche Feierabend-Tour
DESCRIPTION:Gemütliche Feierabend-Tour mit der FahrradgruppeRückenwind durch Marsch und Geest. Strecke: 25 – 30 km
URL:https://www.fahrradgruppe-rueckenwind.de/event/gemuetliche-feierabend-tour-134/
LOCATION:Rathaus – bei den Grünanlagen\, Schulstrasse 15\, Elmshorn\, Schleswig-Holstein\, 25335\, Deutschland
CATEGORIES:Termine Touren-Rüwis
END:VEVENT
BEGIN:VEVENT
DTSTART;TZID=Europe/Berlin:20260811T183000
DTEND;TZID=Europe/Berlin:20260811T183000
DTSTAMP:20260420T010810
CREATED:20260225T122932Z
LAST-MODIFIED:20260225T122932Z
UID:9795-1786473000-1786473000@www.fahrradgruppe-rueckenwind.de
SUMMARY:Trainingsabend der Renn-Rüwis
DESCRIPTION:Rennrad Touren für Anfänger u. Wiedereinsteiger
URL:https://www.fahrradgruppe-rueckenwind.de/event/trainingsabend-der-renn-ruewis-225/
LOCATION:Rathaus – bei den Grünanlagen\, Schulstrasse 15\, Elmshorn\, Schleswig-Holstein\, 25335\, Deutschland
CATEGORIES:Termine Renn-Rüwis
END:VEVENT
END:VCALENDAR